BEGIN:VCALENDAR
VERSION:2.0
PRODID:-//eventon.com NONSGML v1.0//EN
BEGIN:VEVENT
UID:69e4d090bb6ed
DTSTAMP:20260419T075440
DTSTART:20230411T220000Z
DTEND:20230411T221100Z
TZID:Pacific/Midway
LOCATION:
SUMMARY:Empty Space Players presents: The Revolutionists
DESCRIPTION: Tickets! Directed by Bob Harper. THE STORY: An irreverent\,  girl-powered comedy set during the French Revolution’s Reign of Terror. Playwright Olympe de Gouges\,  assassin Charlotte Corday\,  former queen Marie Antoinette\,  and Haitian rebel Marianne Angelle hang out\,  murder Marat\,  and try to beat back the insanity in 1793 Paris. This[..]\nhttps://ticket-central.org/events/empty-space-players-presents-the-revolutionists/
URL:https://ticket-central.org/events/empty-space-players-presents-the-revolutionists/
END:VEVENT
END:VCALENDAR