BEGIN:VCALENDAR
VERSION:2.0
PRODID:-//Ticket-Central.org - ECPv6.15.20//NONSGML v1.0//EN
CALSCALE:GREGORIAN
METHOD:PUBLISH
X-WR-CALNAME:Ticket-Central.org
X-ORIGINAL-URL:https://ticket-central.org
X-WR-CALDESC:Events for Ticket-Central.org
REFRESH-INTERVAL;VALUE=DURATION:PT1H
X-Robots-Tag:noindex
X-PUBLISHED-TTL:PT1H
BEGIN:VTIMEZONE
TZID:America/Chicago
BEGIN:DAYLIGHT
TZOFFSETFROM:-0600
TZOFFSETTO:-0500
TZNAME:CDT
DTSTART:20180311T080000
END:DAYLIGHT
BEGIN:STANDARD
TZOFFSETFROM:-0500
TZOFFSETTO:-0600
TZNAME:CST
DTSTART:20181104T070000
END:STANDARD
BEGIN:DAYLIGHT
TZOFFSETFROM:-0600
TZOFFSETTO:-0500
TZNAME:CDT
DTSTART:20190310T080000
END:DAYLIGHT
BEGIN:STANDARD
TZOFFSETFROM:-0500
TZOFFSETTO:-0600
TZNAME:CST
DTSTART:20191103T070000
END:STANDARD
BEGIN:DAYLIGHT
TZOFFSETFROM:-0600
TZOFFSETTO:-0500
TZNAME:CDT
DTSTART:20200308T080000
END:DAYLIGHT
BEGIN:STANDARD
TZOFFSETFROM:-0500
TZOFFSETTO:-0600
TZNAME:CST
DTSTART:20201101T070000
END:STANDARD
END:VTIMEZONE
BEGIN:VEVENT
DTSTART;TZID=America/Chicago:20191207T130000
DTEND;TZID=America/Chicago:20191207T130000
DTSTAMP:20260419T111607
CREATED:20191122T192015Z
LAST-MODIFIED:20191126T171054Z
UID:1452-1575723600-1575723600@ticket-central.org
SUMMARY:Christmas Ornament Making at T.R.E.E. House Children's Museum
DESCRIPTION:Join the T.R.E.E. House Children’s Museum on Saturday\, December 7th at 1 PM as we make Christmas ornaments!  \nThis program is included in $5 museum admission. T.R.E.E. House Members and children under the age of 2 get in free. Children under the age of 16 must be accompanied by an adult. \n \n  \nBecome A Member Today! \nTo become a T.R.E.E. House member\, simply complete the form below.   \n\nMEMBERSHIP BENEFITS\n* Unlimited visits for an entire year\n* Discounts on Birthday Parties and Museum rentals\n* 10% discount from the museum gift shop\n* Advance registration discounts for educational classes & programs
URL:https://ticket-central.org/event/christmas-ornament-making-at-t-r-e-e-house-childrens-museum/
LOCATION:T.R.E.E. House Children’s Museum\, 1403 Third Street\, Alexandria\, LA\, 71301\, United States
CATEGORIES:Event,Just for Kids
ATTACH;FMTTYPE=image/jpeg:https://ticket-central.org/wp-content/uploads/2019/11/ornament2.jpg
GEO:31.3094732;-92.4416813
X-APPLE-STRUCTURED-LOCATION;VALUE=URI;X-ADDRESS=T.R.E.E. House Children’s Museum 1403 Third Street Alexandria LA 71301 United States;X-APPLE-RADIUS=500;X-TITLE=1403 Third Street:geo:-92.4416813,31.3094732
END:VEVENT
BEGIN:VEVENT
DTSTART;TZID=America/Chicago:20191205T190000
DTEND;TZID=America/Chicago:20191205T190000
DTSTAMP:20260419T111607
CREATED:20190917T142916Z
LAST-MODIFIED:20191125T171409Z
UID:696-1575572400-1575572400@ticket-central.org
SUMMARY:LightWire Theatre: A Very Electric Christmas - Arts Council of Central Louisiana
DESCRIPTION:The Arts Council of Central Louisiana is proud to present LightWire Theatre: A Very Electric Christmas! \n  \nBrighten your holidays with LightWire Theatre’s A Very Electric Christmas! Audiences of all ages will treasure this magical and captivating tale of family\, friendship and hope set to timeless holiday hits. This delightful holiday production will make children wide-eyed with delight and warm even the smallest of hearts! \nLightWire Theatre: A Very Electric Christmas will be presented on Thursday\, December 5th @ 7 PM at Coughlin-Saunders Performing Arts Center. \nSpecial Sponsors include: The City of Alexandria\, The Greater Alexandria Economic Development Authority\,  Hotel Bentley\,  The Alexandria/Pineville Convention & Visitors Bureau\, & The Central Louisiana Community Foundation. \nTicket pricing is as followed:\nGeneral Admission: $18 | Senior: $15 | Student/Child (ages 3+): $10 | Family (2 adults + 2 students): $45
URL:https://ticket-central.org/event/lightwire-theatre-a-very-electric-christmas-arts-council-of-central-louisiana/
LOCATION:Coughlin-Saunders Performing Arts Center\, 1202 Third Street\, Alexandria\, LA\, 71301\, United States
CATEGORIES:Event,Theatre
ATTACH;FMTTYPE=image/png:https://ticket-central.org/wp-content/uploads/2019/09/LW-Poster-smaller.png
GEO:31.3098408;-92.4434964
X-APPLE-STRUCTURED-LOCATION;VALUE=URI;X-ADDRESS=Coughlin-Saunders Performing Arts Center 1202 Third Street Alexandria LA 71301 United States;X-APPLE-RADIUS=500;X-TITLE=1202 Third Street:geo:-92.4434964,31.3098408
END:VEVENT
BEGIN:VEVENT
DTSTART;TZID=America/Chicago:20191202T180000
DTEND;TZID=America/Chicago:20191202T180000
DTSTAMP:20260419T111607
CREATED:20191122T201329Z
LAST-MODIFIED:20200206T184437Z
UID:1139-1575309600-1575309600@ticket-central.org
SUMMARY:Audition Notice - Talking With... -City Park Players
DESCRIPTION:City Park Players Audition Notice \n Talking With… by Jane Martin \n  \nAuditions for Talking With…: by Jane Martin \nDate/Time: Monday\, December 2nd at 6 pm & Saturday\, December 7th at 10 am\nLocation: Inside the Rapides Foundation Bldg\, 1101 Fourth St.\, Alexandria \nCast needed: 11 women \nTalking With… is a collection of sharp\, bittersweet portraits of women\, many of whom have reacted to disappointments by melting into private worlds. Idiosyncratic characters amuse\, move\, and frighten\, always speaking from the depths of their souls. These eleven ten-minute monologues include a baton twirler\, a fundamentalist snake handler\, an ex-rodeo rider\, and an actress willing to go to any length to get a job. It premiered at the Manhattan Theatre Club in New York in 1982 and has been performed around the world. \nDirected by: TBA \nShowtimes:\nThursday-Saturday\, January 30-February 1 at 7:30pm\nSunday\, February 2 at 2:30pm\nThursday-Saturday\, February 6-8 at 7:30pm\nSunday\, February 9 at 2:30pm \nFor more information\, please contact us at: cityparkplayers@gmail.com or call 318-484-4478.
URL:https://ticket-central.org/event/audition-notice-talking-with-city-park-players/2019-12-02/
LOCATION:The Rapides Foundation Building\, 1101 4th Street\, Alexandria\, LA\, 71301\, United States
CATEGORIES:Event,Non ticketed events,Theatre
ATTACH;FMTTYPE=image/jpeg:https://ticket-central.org/wp-content/uploads/2019/11/CPP-Audition-notice-Talking-With-1.jpg
END:VEVENT
BEGIN:VEVENT
DTSTART;TZID=America/Chicago:20191123T130000
DTEND;TZID=America/Chicago:20191123T140000
DTSTAMP:20260419T111607
CREATED:20190919T165829Z
LAST-MODIFIED:20190919T170119Z
UID:832-1574514000-1574517600@ticket-central.org
SUMMARY:Hot Air Balloons! at T.R.E.E. House Children's Museum
DESCRIPTION:Join the T.R.E.E. House Children’s Museum on Saturday\, November 3rd at 1 PM as we learn about the science behind hot air balloons. Then join us for a story time and craft! \nThis program is included in $5 museum admission. T.R.E.E. House Members and children under the age of 2 get in free. Children under the age of 16 must be accompanied by an adult. \n  \nBecome A Member Today! \nTo become a T.R.E.E. House member\, simply complete the form below.   \n\nMEMBERSHIP BENEFITS\n* Unlimited visits for an entire year\n* Discounts on Birthday Parties and Museum rentals\n* 10% discount from the museum gift shop\n* Advance registration discounts for educational classes & programs
URL:https://ticket-central.org/event/hot-air-balloons-at-t-r-e-e-house-childrens-museum/
LOCATION:T.R.E.E. House Children’s Museum\, 1403 Third Street\, Alexandria\, LA\, 71301\, United States
CATEGORIES:Event
ATTACH;FMTTYPE=image/jpeg:https://ticket-central.org/wp-content/uploads/2019/09/hot-air-balloons.jpg
GEO:31.3094732;-92.4416813
X-APPLE-STRUCTURED-LOCATION;VALUE=URI;X-ADDRESS=T.R.E.E. House Children’s Museum 1403 Third Street Alexandria LA 71301 United States;X-APPLE-RADIUS=500;X-TITLE=1403 Third Street:geo:-92.4416813,31.3094732
END:VEVENT
BEGIN:VEVENT
DTSTART;TZID=America/Chicago:20191120T190000
DTEND;TZID=America/Chicago:20191120T190000
DTSTAMP:20260419T111607
CREATED:20190902T110955Z
LAST-MODIFIED:20191115T212517Z
UID:489-1574276400-1574276400@ticket-central.org
SUMMARY:Well Groomed - Southern Circuit Tour of Independent Filmmakers
DESCRIPTION:Join The Arts Council of Central Louisiana on Wednesday\, November 20th  at 7:00 PM for a screening of Well Groomed. This film is part of the 2019 – 2020 Southern Circuit Tour of Independent Filmmakers. Q & A with the Director Rebecca Stern and Justin Levy (Producer) will follow the screening. \nTickets are $10 for adults and $5 for students. \nAbout the film: \n\nCompetitive creative dog grooming is the most colorful competition in America. Well Groomed poignantly captures the creative process and traveling with four women at the center of the competition as they enrich their lives through this fascinating intersection of art and animals. Following champion groomers and their gorgeous\, vibrant dogs through a year in the life on the technicolor competition circuit\, Well Groomed effervescently explores an American not often portrayed in cinema.\n\nFrom South Carolina to California\, New York to Arkansas\, the film follows dog groomers from their homes to large-scale dog grooming competitions and showrooms where their communities meet\, discuss\, and compete with technicolor exuberance. As the film unfolds\, we meet Adriane\, Nicole\, Cat and Angela. Perpetual runner-up\, Adriane has an intense drive to prove herself a winner\, and is beloved by her competitors for being so kind and friendly. Nicole hopes to connect with people in the grooming community as much as she connects with her dogs at home\, while facing the very real challenge of turning her struggling grooming shop into a successful business. Cat is the champion in the show ring but\, over the year\, must come to terms with competition’s reality as responsibilities outside of the grooming circuit surface. And Angela is the glue that binds the creative grooming industry with her innovative beauty products\, extremely adept grooming skills and swagger that comes from constant success. Outside the competition ring\, working as professional groomers\, they spend their limited spare time away from washing\, blow-drying\, and fluffing other people’s dogs caring for their own numerous pets and experimenting with new designs on their show dogs\, finding creative inspiration in their seemingly mundane surroundings. These women are revolutionizing the age-old question – what is art?\n\n  \nWell Groomed is a vibrant dive in to a colorful subculture of Americana. Director Rebecca Stern has captured a seemingly effortless ride-along experience with artists who are at the top of their craft. Well Groomed is a revealing look at pets\, families\, friendships and the glory of creativity through a bright prism of color. \n\n  \n \nWELL GROOMED Trailer from Rebecca Stern on Vimeo. \nSouthern Circuit is the South’s only tour of filmmakers\, providing communities with an interactive way of experiencing independent film. Southern Circuit provides organizations with the opportunity to screen work from emerging filmmakers and some of the medium’s most respected directors.  The Southern Circuit Tour of Independent Filmmakers is a program of South Arts. Southern Circuit screenings are funded in part by a grant from South Arts in partnership with the National Endowment for the Arts.
URL:https://ticket-central.org/event/well-groomed-southern-circuit-tour-of-independent-filmmakers/
LOCATION:hearn stage\, 1102 Third Street\, Alexandria\, LA\, 71301\, United States
CATEGORIES:Event,Film,Ticketed Events
ATTACH;FMTTYPE=image/jpeg:https://ticket-central.org/wp-content/uploads/2019/09/well-groomed.jpg
END:VEVENT
BEGIN:VEVENT
DTSTART;TZID=America/Chicago:20191107T193000
DTEND;TZID=America/Chicago:20191107T193000
DTSTAMP:20260419T111608
CREATED:20191014T171559Z
LAST-MODIFIED:20191017T153903Z
UID:899-1573155000-1573155000@ticket-central.org
SUMMARY:A Doll's House - Spectral Sisters
DESCRIPTION:Spectral Sisters is proud to present A Doll’s House! \nIn 1879\, Henrik Ibsen’s “A Doll’s House\,” became an immediate sensation\, telling the story of Nora\, a woman married to a domineering husband after being raised by a domineering father.  Though their marriage seems happy on the surface\, Nora has had to sacrifice her honor and personhood. In 1879\, a woman couldn’t vote\, couldn’t conduct business without her husband’s permission\, and could not refuse her husband’s sexual advances.  We’ve set our “A Doll’s House” in 1959\, when a woman could vote\, but was otherwise still subject to her husband’s control. \n  \nA blackmailer threatens to reveal a crime Nora committed to save her husband’s life. Disillusioned by her husband’s response\, Nora realizes she has to change her life—to grow up and be a reasonable human being with a mind of her own—or end her life. Her decision shocked audiences in 1879 and will make current audiences think about what it means to be a human being and what it means to love one. \nA Doll’s House will be performed Thursday through Saturday from November 7th to November 9th @ 7:30 PM and Sunday\, November 10th @ 2:30 PM on the Hearn Stage at the Kress Theatre.   \nTickets: General Admission $10.00 ; Teachers & Students $5.00.
URL:https://ticket-central.org/event/a-dolls-house-spectral-sisters/2019-11-07/
LOCATION:hearn stage\, 1102 Third Street\, Alexandria\, LA\, 71301\, United States
CATEGORIES:Event,Theatre,Ticketed Events
ATTACH;FMTTYPE=image/jpeg:https://ticket-central.org/wp-content/uploads/2019/10/dolls-house.jpg
END:VEVENT
END:VCALENDAR